BEGIN:VCALENDAR
VERSION:2.0
PRODID:-//Hillside School PTA - ECPv6.15.20//NONSGML v1.0//EN
CALSCALE:GREGORIAN
METHOD:PUBLISH
X-ORIGINAL-URL:https://2018.hillsideschoolpta.com
X-WR-CALDESC:Events for Hillside School PTA
REFRESH-INTERVAL;VALUE=DURATION:PT1H
X-Robots-Tag:noindex
X-PUBLISHED-TTL:PT1H
BEGIN:VTIMEZONE
TZID:UTC
BEGIN:STANDARD
TZOFFSETFROM:+0000
TZOFFSETTO:+0000
TZNAME:UTC
DTSTART:20170101T000000
END:STANDARD
END:VTIMEZONE
BEGIN:VEVENT
DTSTART;TZID=UTC:20180412T144000
DTEND;TZID=UTC:20180412T160000
DTSTAMP:20260424T030911
CREATED:20180205T224117Z
LAST-MODIFIED:20180205T224117Z
UID:698-1523544000-1523548800@2018.hillsideschoolpta.com
SUMMARY:TREP$
DESCRIPTION:Today is Workshop #6! \nFor more information about TREP$\, go HERE!
URL:https://2018.hillsideschoolpta.com/event/trep-6/
CATEGORIES:Enrichment
ATTACH;FMTTYPE=image/png:https://2018.hillsideschoolpta.com/wp-content/uploads/2018/02/trep-01-1.png
ORGANIZER;CN="Denise Dunton":MAILTO:denise.dunton@gmail.com
END:VEVENT
BEGIN:VEVENT
DTSTART;TZID=UTC:20180405T180000
DTEND;TZID=UTC:20180405T200000
DTSTAMP:20260424T030911
CREATED:20180205T223857Z
LAST-MODIFIED:20180205T223857Z
UID:693-1522951200-1522958400@2018.hillsideschoolpta.com
SUMMARY:TREP$ Marketplace
DESCRIPTION:The young entrepreneurs at Hillside school have been busy getting their businesses going. They will be ready to debut their products and services at the TREP$ Marketplace at Hillside on April 5th\, from 6pm to 8pm. The event is open to the public\, so please spread the word. There will be a raffle for all Hillside students who attend to support their fellow 4th and 5th grade peers. Please\, cash only.
URL:https://2018.hillsideschoolpta.com/event/trep-marketplace/
LOCATION:Hillside School\, 98 Belmont Dr.\, Livingston\, NJ\, 07039\, United States
CATEGORIES:Enrichment,Family Fun Night
ATTACH;FMTTYPE=image/jpeg:https://2018.hillsideschoolpta.com/wp-content/uploads/2018/02/trep.jpg
ORGANIZER;CN="Denise Dunton":MAILTO:denise.dunton@gmail.com
END:VEVENT
BEGIN:VEVENT
DTSTART;TZID=UTC:20180322T144000
DTEND;TZID=UTC:20180322T160000
DTSTAMP:20260424T030911
CREATED:20180205T221509Z
LAST-MODIFIED:20180205T224920Z
UID:691-1521729600-1521734400@2018.hillsideschoolpta.com
SUMMARY:TREP$
DESCRIPTION:Today is Workshop #5! \nFor more information about TREP$\, go HERE.
URL:https://2018.hillsideschoolpta.com/event/trep-5/
CATEGORIES:Enrichment
ATTACH;FMTTYPE=image/png:https://2018.hillsideschoolpta.com/wp-content/uploads/2018/02/trep-01-1.png
ORGANIZER;CN="Denise Dunton":MAILTO:denise.dunton@gmail.com
END:VEVENT
BEGIN:VEVENT
DTSTART;TZID=UTC:20180320T144500
DTEND;TZID=UTC:20180320T154500
DTSTAMP:20260424T030911
CREATED:20180205T215225Z
LAST-MODIFIED:20180205T215225Z
UID:676-1521557100-1521560700@2018.hillsideschoolpta.com
SUMMARY:After School Enrichment
DESCRIPTION:Hillside’s NEW 6-Week After-School Enrichment Program.  For more information about what is offered\, go HERE.
URL:https://2018.hillsideschoolpta.com/event/after-school-enrichment-4/
CATEGORIES:Enrichment
ATTACH;FMTTYPE=image/png:https://2018.hillsideschoolpta.com/wp-content/uploads/2018/01/AFter-School-Enrichment-.png
ORGANIZER;CN="Denise Dunton":MAILTO:denise.dunton@gmail.com
END:VEVENT
BEGIN:VEVENT
DTSTART;TZID=UTC:20180313T144500
DTEND;TZID=UTC:20180313T154500
DTSTAMP:20260424T030911
CREATED:20180205T215055Z
LAST-MODIFIED:20180205T224430Z
UID:674-1520952300-1520955900@2018.hillsideschoolpta.com
SUMMARY:After School Enrichment
DESCRIPTION:Hillside’s NEW 6-Week After-School Enrichment Program.  For more information about what is offered\, go HERE.
URL:https://2018.hillsideschoolpta.com/event/674/
CATEGORIES:Enrichment
ATTACH;FMTTYPE=image/png:https://2018.hillsideschoolpta.com/wp-content/uploads/2018/01/AFter-School-Enrichment-.png
ORGANIZER;CN="Denise Dunton":MAILTO:denise.dunton@gmail.com
END:VEVENT
BEGIN:VEVENT
DTSTART;TZID=UTC:20180313T144000
DTEND;TZID=UTC:20180313T160000
DTSTAMP:20260424T030911
CREATED:20180205T221340Z
LAST-MODIFIED:20180309T175828Z
UID:689-1520952000-1520956800@2018.hillsideschoolpta.com
SUMMARY:TREP$
DESCRIPTION:Today is Workshop #4! \nFor more information about TREP$\, go HERE.
URL:https://2018.hillsideschoolpta.com/event/trep-4/
CATEGORIES:Enrichment
ATTACH;FMTTYPE=image/png:https://2018.hillsideschoolpta.com/wp-content/uploads/2018/02/trep-01-1.png
ORGANIZER;CN="Denise Dunton":MAILTO:denise.dunton@gmail.com
END:VEVENT
BEGIN:VEVENT
DTSTART;VALUE=DATE:20180312
DTEND;VALUE=DATE:20180317
DTSTAMP:20260424T030911
CREATED:20180206T011813Z
LAST-MODIFIED:20180206T011813Z
UID:716-1520812800-1521244799@2018.hillsideschoolpta.com
SUMMARY:Art Appreciation Week
DESCRIPTION:It’s Art Appreciation Week! \nTo find out more about what Art Appreciation Week is\, and what the project is for this year\, go HERE.
URL:https://2018.hillsideschoolpta.com/event/art-appreciation-week/
CATEGORIES:Enrichment
ATTACH;FMTTYPE=image/jpeg:https://2018.hillsideschoolpta.com/wp-content/uploads/2018/02/BigImage-paing.jpg
ORGANIZER;CN="Jaime Lauro":MAILTO:jaimelauro@gmail.com
END:VEVENT
BEGIN:VEVENT
DTSTART;TZID=UTC:20180306T144000
DTEND;TZID=UTC:20180306T160000
DTSTAMP:20260424T030911
CREATED:20180205T221116Z
LAST-MODIFIED:20180205T224836Z
UID:687-1520347200-1520352000@2018.hillsideschoolpta.com
SUMMARY:TREP$
DESCRIPTION:Today is Workshop #3! \nFor more information about TREP$\, go HERE.
URL:https://2018.hillsideschoolpta.com/event/trep-3/
CATEGORIES:Enrichment
ATTACH;FMTTYPE=image/png:https://2018.hillsideschoolpta.com/wp-content/uploads/2018/02/trep-01-1.png
ORGANIZER;CN="Denise Dunton":MAILTO:denise.dunton@gmail.com
END:VEVENT
BEGIN:VEVENT
DTSTART;TZID=UTC:20180301T144000
DTEND;TZID=UTC:20180301T160000
DTSTAMP:20260424T030911
CREATED:20180205T220829Z
LAST-MODIFIED:20180205T224710Z
UID:685-1519915200-1519920000@2018.hillsideschoolpta.com
SUMMARY:TREP$
DESCRIPTION:Today is Workshop #2! \nFor more information about TREP$\, go HERE.
URL:https://2018.hillsideschoolpta.com/event/trep-2/
CATEGORIES:Enrichment
ATTACH;FMTTYPE=image/png:https://2018.hillsideschoolpta.com/wp-content/uploads/2018/02/trep-01-1.png
ORGANIZER;CN="Denise Dunton":MAILTO:denise.dunton@gmail.com
END:VEVENT
BEGIN:VEVENT
DTSTART;TZID=UTC:20180227T144500
DTEND;TZID=UTC:20180227T154500
DTSTAMP:20260424T030911
CREATED:20180205T214911Z
LAST-MODIFIED:20180205T214911Z
UID:672-1519742700-1519746300@2018.hillsideschoolpta.com
SUMMARY:After School Enrichment
DESCRIPTION:Hillside’s NEW 6-Week After-School Enrichment Program.  For more information about what is offered\, go HERE.
URL:https://2018.hillsideschoolpta.com/event/after-school-enrichment-3/
CATEGORIES:Enrichment
ATTACH;FMTTYPE=image/png:https://2018.hillsideschoolpta.com/wp-content/uploads/2018/01/AFter-School-Enrichment-.png
ORGANIZER;CN="Denise Dunton":MAILTO:denise.dunton@gmail.com
END:VEVENT
BEGIN:VEVENT
DTSTART;TZID=UTC:20180215T144000
DTEND;TZID=UTC:20180215T160000
DTSTAMP:20260424T030911
CREATED:20180205T220538Z
LAST-MODIFIED:20180205T220538Z
UID:681-1518705600-1518710400@2018.hillsideschoolpta.com
SUMMARY:TREP$
DESCRIPTION:Welcome to TREP$!  Today is Workshop #1! \nFor more information about the TREP$ Program\, go HERE.
URL:https://2018.hillsideschoolpta.com/event/trep/
CATEGORIES:Enrichment
ATTACH;FMTTYPE=image/png:https://2018.hillsideschoolpta.com/wp-content/uploads/2018/02/trep-01-1.png
ORGANIZER;CN="Denise Dunton":MAILTO:denise.dunton@gmail.com
END:VEVENT
BEGIN:VEVENT
DTSTART;TZID=UTC:20180213T144500
DTEND;TZID=UTC:20180213T154500
DTSTAMP:20260424T030911
CREATED:20180205T214716Z
LAST-MODIFIED:20180205T214716Z
UID:670-1518533100-1518536700@2018.hillsideschoolpta.com
SUMMARY:After School Enrichment
DESCRIPTION:Hillside’s NEW 6-Week After-School Enrichment Program.  For more information about what is offered\, go HERE.
URL:https://2018.hillsideschoolpta.com/event/after-school-enrichment-2/
CATEGORIES:Enrichment
ATTACH;FMTTYPE=image/png:https://2018.hillsideschoolpta.com/wp-content/uploads/2018/01/AFter-School-Enrichment-.png
ORGANIZER;CN="Denise Dunton":MAILTO:denise.dunton@gmail.com
END:VEVENT
BEGIN:VEVENT
DTSTART;TZID=UTC:20180206T144500
DTEND;TZID=UTC:20180206T154500
DTSTAMP:20260424T030911
CREATED:20180205T214436Z
LAST-MODIFIED:20180205T214436Z
UID:668-1517928300-1517931900@2018.hillsideschoolpta.com
SUMMARY:After School Enrichment
DESCRIPTION:Hillside’s NEW 6-Week After-School Enrichment Program.  For more information about what is offered\, go HERE. \n 
URL:https://2018.hillsideschoolpta.com/event/after-school-enrichment/
CATEGORIES:Enrichment
ATTACH;FMTTYPE=image/png:https://2018.hillsideschoolpta.com/wp-content/uploads/2018/01/AFter-School-Enrichment-.png
ORGANIZER;CN="Denise Dunton":MAILTO:denise.dunton@gmail.com
END:VEVENT
END:VCALENDAR