BEGIN:VCALENDAR
VERSION:2.0
PRODID:-//Hillside School PTA - ECPv6.15.20//NONSGML v1.0//EN
CALSCALE:GREGORIAN
METHOD:PUBLISH
X-ORIGINAL-URL:https://2018.hillsideschoolpta.com
X-WR-CALDESC:Events for Hillside School PTA
REFRESH-INTERVAL;VALUE=DURATION:PT1H
X-Robots-Tag:noindex
X-PUBLISHED-TTL:PT1H
BEGIN:VTIMEZONE
TZID:UTC
BEGIN:STANDARD
TZOFFSETFROM:+0000
TZOFFSETTO:+0000
TZNAME:UTC
DTSTART:20170101T000000
END:STANDARD
END:VTIMEZONE
BEGIN:VEVENT
DTSTART;TZID=UTC:20180215T144000
DTEND;TZID=UTC:20180215T160000
DTSTAMP:20260424T053049
CREATED:20180205T220538Z
LAST-MODIFIED:20180205T220538Z
UID:681-1518705600-1518710400@2018.hillsideschoolpta.com
SUMMARY:TREP$
DESCRIPTION:Welcome to TREP$!  Today is Workshop #1! \nFor more information about the TREP$ Program\, go HERE.
URL:https://2018.hillsideschoolpta.com/event/trep/
CATEGORIES:Enrichment
ATTACH;FMTTYPE=image/png:https://2018.hillsideschoolpta.com/wp-content/uploads/2018/02/trep-01-1.png
ORGANIZER;CN="Denise Dunton":MAILTO:denise.dunton@gmail.com
END:VEVENT
BEGIN:VEVENT
DTSTART;TZID=UTC:20180213T144500
DTEND;TZID=UTC:20180213T154500
DTSTAMP:20260424T053049
CREATED:20180205T214716Z
LAST-MODIFIED:20180205T214716Z
UID:670-1518533100-1518536700@2018.hillsideschoolpta.com
SUMMARY:After School Enrichment
DESCRIPTION:Hillside’s NEW 6-Week After-School Enrichment Program.  For more information about what is offered\, go HERE.
URL:https://2018.hillsideschoolpta.com/event/after-school-enrichment-2/
CATEGORIES:Enrichment
ATTACH;FMTTYPE=image/png:https://2018.hillsideschoolpta.com/wp-content/uploads/2018/01/AFter-School-Enrichment-.png
ORGANIZER;CN="Denise Dunton":MAILTO:denise.dunton@gmail.com
END:VEVENT
BEGIN:VEVENT
DTSTART;TZID=UTC:20180206T144500
DTEND;TZID=UTC:20180206T154500
DTSTAMP:20260424T053049
CREATED:20180205T214436Z
LAST-MODIFIED:20180205T214436Z
UID:668-1517928300-1517931900@2018.hillsideschoolpta.com
SUMMARY:After School Enrichment
DESCRIPTION:Hillside’s NEW 6-Week After-School Enrichment Program.  For more information about what is offered\, go HERE. \n 
URL:https://2018.hillsideschoolpta.com/event/after-school-enrichment/
CATEGORIES:Enrichment
ATTACH;FMTTYPE=image/png:https://2018.hillsideschoolpta.com/wp-content/uploads/2018/01/AFter-School-Enrichment-.png
ORGANIZER;CN="Denise Dunton":MAILTO:denise.dunton@gmail.com
END:VEVENT
END:VCALENDAR