BEGIN:VCALENDAR
VERSION:2.0
PRODID:-//Hillside School PTA - ECPv6.15.20//NONSGML v1.0//EN
CALSCALE:GREGORIAN
METHOD:PUBLISH
X-WR-CALNAME:Hillside School PTA
X-ORIGINAL-URL:https://2018.hillsideschoolpta.com
X-WR-CALDESC:Events for Hillside School PTA
REFRESH-INTERVAL;VALUE=DURATION:PT1H
X-Robots-Tag:noindex
X-PUBLISHED-TTL:PT1H
BEGIN:VTIMEZONE
TZID:UTC
BEGIN:STANDARD
TZOFFSETFROM:+0000
TZOFFSETTO:+0000
TZNAME:UTC
DTSTART:20170101T000000
END:STANDARD
END:VTIMEZONE
BEGIN:VEVENT
DTSTART;TZID=UTC:20180315T121500
DTEND;TZID=UTC:20180315T153000
DTSTAMP:20260424T060123
CREATED:20180205T231950Z
LAST-MODIFIED:20180309T175957Z
UID:712-1521116100-1521127800@2018.hillsideschoolpta.com
SUMMARY:Fifth Grade 1/2 Day Activity
DESCRIPTION:The PTA’s Fifth Grade Committee will host a fun afternoon for our graduating 5th graders. \nWe have a great half-day activity planned for our 5th graders on Thursday\, March 8th Rescheduled to March 15th from dismissal until 3:30 pm.  The kids will engage in team building exercises led by an outside vendor\, Team Makers.  Please see the attached flyer which provides some info on what they do – we are very excited about it!\n\n  \nA registration form was sent home on Tuesday\, February 27th.  We must provide a final headcount to the vendor on March 1st so please send the completed form back as soon as possible.\n\n  \nFor more information\, go HERE.\n 
URL:https://2018.hillsideschoolpta.com/event/fifth-grade-1-2-day-activity/
CATEGORIES:Fifth Grade Only
ATTACH;FMTTYPE=image/jpeg:https://2018.hillsideschoolpta.com/wp-content/uploads/2018/02/5th_grade_school_is_cool_sticker-p217041309847691086qjcl_400.jpeg
ORGANIZER;CN="Sandra Maru":MAILTO:sandymaru@gmail.com
END:VEVENT
END:VCALENDAR