BEGIN:VCALENDAR
VERSION:2.0
PRODID:-//Hillside School PTA - ECPv6.15.20//NONSGML v1.0//EN
CALSCALE:GREGORIAN
METHOD:PUBLISH
X-ORIGINAL-URL:https://2018.hillsideschoolpta.com
X-WR-CALDESC:Events for Hillside School PTA
REFRESH-INTERVAL;VALUE=DURATION:PT1H
X-Robots-Tag:noindex
X-PUBLISHED-TTL:PT1H
BEGIN:VTIMEZONE
TZID:UTC
BEGIN:STANDARD
TZOFFSETFROM:+0000
TZOFFSETTO:+0000
TZNAME:UTC
DTSTART:20170101T000000
END:STANDARD
END:VTIMEZONE
BEGIN:VEVENT
DTSTART;TZID=UTC:20180613T110000
DTEND;TZID=UTC:20180613T130000
DTSTAMP:20260423T230743
CREATED:20180206T031200Z
LAST-MODIFIED:20180503T155057Z
UID:732-1528887600-1528894800@2018.hillsideschoolpta.com
SUMMARY:School Store
DESCRIPTION:It’s time for our School Store! Students will have the opportunity to shop during their lunch period. Items will range in price from 25 cents up to $2. Please clearly label any school store money in an envelope and send it in with your child on the day of the store so they can shop with us!
URL:https://2018.hillsideschoolpta.com/event/school-store-4/
LOCATION:Hallway
CATEGORIES:Fundraiser
ATTACH;FMTTYPE=image/jpeg:https://2018.hillsideschoolpta.com/wp-content/uploads/2018/01/school-store.jpg
ORGANIZER;CN="Meryll Kropac":MAILTO:meryllc27@yahoo.com
END:VEVENT
BEGIN:VEVENT
DTSTART;TZID=UTC:20180503T110000
DTEND;TZID=UTC:20180503T130000
DTSTAMP:20260423T230743
CREATED:20180206T030958Z
LAST-MODIFIED:20180206T030958Z
UID:730-1525345200-1525352400@2018.hillsideschoolpta.com
SUMMARY:School Store
DESCRIPTION:It’s time for our School Store! Students will have the opportunity to shop during their lunch period. Items will range in price from 25 cents up to $2. Please clearly label any school store money in an envelope and send it in with your child on the day of the store so they can shop with us!
URL:https://2018.hillsideschoolpta.com/event/school-store-3/
LOCATION:Hallway
CATEGORIES:Fundraiser
ATTACH;FMTTYPE=image/jpeg:https://2018.hillsideschoolpta.com/wp-content/uploads/2018/01/school-store.jpg
ORGANIZER;CN="Meryll Kropac":MAILTO:meryllc27@yahoo.com
END:VEVENT
BEGIN:VEVENT
DTSTART;TZID=UTC:20180428T080000
DTEND;TZID=UTC:20180428T120000
DTSTAMP:20260423T230743
CREATED:20180213T223843Z
LAST-MODIFIED:20180213T224434Z
UID:769-1524902400-1524916800@2018.hillsideschoolpta.com
SUMMARY:Hillside Yard Sale
DESCRIPTION:Join us for our Third Annual Hillside Yard Sale! \nFind something new and support the school in the process! \nFor more information about this event\, go HERE.
URL:https://2018.hillsideschoolpta.com/event/hillside-yard-sale/
LOCATION:Upper Gym
CATEGORIES:Fundraiser
ATTACH;FMTTYPE=image/png:https://2018.hillsideschoolpta.com/wp-content/uploads/2018/02/yard-sale.png
ORGANIZER;CN="Jennifer Bonardi":MAILTO:jbonardix4@aol.com
END:VEVENT
BEGIN:VEVENT
DTSTART;TZID=UTC:20180413T180000
DTEND;TZID=UTC:20180413T220000
DTSTAMP:20260423T230743
CREATED:20180206T032320Z
LAST-MODIFIED:20180206T032320Z
UID:734-1523642400-1523656800@2018.hillsideschoolpta.com
SUMMARY:Spring Fundraiser
DESCRIPTION:The Spring Fundraiser\, our biggest fundraiser of the year\, is set for Friday\, April 13th\, from 6-10pm\, at the Westminster Hotel. Bring your family\, friends and neighbors for a night out of fun. \nFor additional information\, volunteer opportunities and donation details\, go HERE.
URL:https://2018.hillsideschoolpta.com/event/spring-fundraiser/
LOCATION:Westminster Hotel\, 550 W Mount Pleasant Ave\, Livingston\, NJ\, 07039\, United States
CATEGORIES:Fundraiser
ATTACH;FMTTYPE=image/png:https://2018.hillsideschoolpta.com/wp-content/uploads/2018/01/springfundraiser-favorpeedee_1_orig.png
ORGANIZER;CN="Kim Lewis":MAILTO:krose4182@hotmail.com
END:VEVENT
BEGIN:VEVENT
DTSTART;TZID=UTC:20180208T110000
DTEND;TZID=UTC:20180208T130000
DTSTAMP:20260423T230743
CREATED:20180114T233957Z
LAST-MODIFIED:20180114T234958Z
UID:287-1518087600-1518094800@2018.hillsideschoolpta.com
SUMMARY:School Store
DESCRIPTION:It’s time for our School Store!  Students will have the opportunity to shop during their lunch period.  Items will range in price from 25 cents up to $2.  Please clearly label any school store money in an envelope and send it in with your child on the day of the store so they can shop with us!
URL:https://2018.hillsideschoolpta.com/event/school-store/
LOCATION:Hallway
CATEGORIES:Fundraiser
ATTACH;FMTTYPE=image/jpeg:https://2018.hillsideschoolpta.com/wp-content/uploads/2018/01/school-store.jpg
ORGANIZER;CN="Meryll Kropac":MAILTO:meryllc27@yahoo.com
END:VEVENT
END:VCALENDAR