BEGIN:VCALENDAR
VERSION:2.0
PRODID:-//Hillside School PTA - ECPv6.15.20//NONSGML v1.0//EN
CALSCALE:GREGORIAN
METHOD:PUBLISH
X-WR-CALNAME:Hillside School PTA
X-ORIGINAL-URL:https://2018.hillsideschoolpta.com
X-WR-CALDESC:Events for Hillside School PTA
REFRESH-INTERVAL;VALUE=DURATION:PT1H
X-Robots-Tag:noindex
X-PUBLISHED-TTL:PT1H
BEGIN:VTIMEZONE
TZID:UTC
BEGIN:STANDARD
TZOFFSETFROM:+0000
TZOFFSETTO:+0000
TZNAME:UTC
DTSTART:20170101T000000
END:STANDARD
END:VTIMEZONE
BEGIN:VEVENT
DTSTART;VALUE=DATE:20180214
DTEND;VALUE=DATE:20180215
DTSTAMP:20260424T081818
CREATED:20180205T225330Z
LAST-MODIFIED:20180205T225330Z
UID:706-1518566400-1518652799@2018.hillsideschoolpta.com
SUMMARY:Valentine's Day
DESCRIPTION:Happy Valentine’s Day from the Hillside PTA!
URL:https://2018.hillsideschoolpta.com/event/valentines-day/
CATEGORIES:Holiday
ATTACH;FMTTYPE=image/jpeg:https://2018.hillsideschoolpta.com/wp-content/uploads/2018/02/happy-valentines-day-2018.jpeg
END:VEVENT
END:VCALENDAR