BEGIN:VCALENDAR
VERSION:2.0
PRODID:-//Hillside School PTA - ECPv6.15.20//NONSGML v1.0//EN
CALSCALE:GREGORIAN
METHOD:PUBLISH
X-WR-CALNAME:Hillside School PTA
X-ORIGINAL-URL:https://2018.hillsideschoolpta.com
X-WR-CALDESC:Events for Hillside School PTA
REFRESH-INTERVAL;VALUE=DURATION:PT1H
X-Robots-Tag:noindex
X-PUBLISHED-TTL:PT1H
BEGIN:VTIMEZONE
TZID:UTC
BEGIN:STANDARD
TZOFFSETFROM:+0000
TZOFFSETTO:+0000
TZNAME:UTC
DTSTART:20170101T000000
END:STANDARD
END:VTIMEZONE
BEGIN:VEVENT
DTSTART;TZID=UTC:20180613T190000
DTEND;TZID=UTC:20180613T200000
DTSTAMP:20260423T230711
CREATED:20180206T012621Z
LAST-MODIFIED:20180605T131234Z
UID:726-1528916400-1528920000@2018.hillsideschoolpta.com
SUMMARY:PTA Meeting
DESCRIPTION:Join us for the June PTA Meeting!  Child care will be provided for school-aged children during the meeting. \nHillside PTA Meeting Agenda – June
URL:https://2018.hillsideschoolpta.com/event/pta-meeting-5/
LOCATION:Media Center
CATEGORIES:PTA Meeting
ATTACH;FMTTYPE=image/png:https://2018.hillsideschoolpta.com/wp-content/uploads/2018/01/pta.png
ORGANIZER;CN="Denise Dunton":MAILTO:denise.dunton@gmail.com
END:VEVENT
BEGIN:VEVENT
DTSTART;TZID=UTC:20180508T190000
DTEND;TZID=UTC:20180508T200000
DTSTAMP:20260423T230711
CREATED:20180206T012436Z
LAST-MODIFIED:20180503T160220Z
UID:724-1525806000-1525809600@2018.hillsideschoolpta.com
SUMMARY:PTA Meeting
DESCRIPTION:Join us for the May PTA Meeting!  Child care will be provided for school-aged children during the meeting. \nPlease come to Vote on our 2018-2019 Executive Board! \nCheck out agenda here:  May Agenda
URL:https://2018.hillsideschoolpta.com/event/pta-meeting-4/
LOCATION:Media Center
CATEGORIES:PTA Meeting
ATTACH;FMTTYPE=image/png:https://2018.hillsideschoolpta.com/wp-content/uploads/2018/01/pta.png
ORGANIZER;CN="Denise Dunton":MAILTO:denise.dunton@gmail.com
END:VEVENT
BEGIN:VEVENT
DTSTART;TZID=UTC:20180410T190000
DTEND;TZID=UTC:20180410T200000
DTSTAMP:20260423T230711
CREATED:20180206T012215Z
LAST-MODIFIED:20180409T215036Z
UID:722-1523386800-1523390400@2018.hillsideschoolpta.com
SUMMARY:PTA Meeting
DESCRIPTION:Join us for the April PTA Meeting!  Childcare will be provided for school-aged children during the meeting. \n  \nCheck out the April PTA Meeting Agenda
URL:https://2018.hillsideschoolpta.com/event/pta-meeting-3/
LOCATION:Media Center
CATEGORIES:PTA Meeting
ATTACH;FMTTYPE=image/png:https://2018.hillsideschoolpta.com/wp-content/uploads/2018/01/pta.png
ORGANIZER;CN="Denise Dunton":MAILTO:denise.dunton@gmail.com
END:VEVENT
BEGIN:VEVENT
DTSTART;TZID=UTC:20180313T190000
DTEND;TZID=UTC:20180313T200000
DTSTAMP:20260423T230711
CREATED:20180108T191922Z
LAST-MODIFIED:20180302T171113Z
UID:188-1520967600-1520971200@2018.hillsideschoolpta.com
SUMMARY:PTA Meeting
DESCRIPTION:Join us for the March PTA Meeting!  Child care will be provided for school-aged children during the meeting. \n  \nCheck out the PTA Meeting March Agenda.
URL:https://2018.hillsideschoolpta.com/event/pta-meeting/
LOCATION:Media Center
CATEGORIES:PTA Meeting
ATTACH;FMTTYPE=image/png:https://2018.hillsideschoolpta.com/wp-content/uploads/2018/01/pta.png
ORGANIZER;CN="Denise Dunton":MAILTO:denise.dunton@gmail.com
END:VEVENT
BEGIN:VEVENT
DTSTART;TZID=UTC:20180206T190000
DTEND;TZID=UTC:20180206T200000
DTSTAMP:20260423T230711
CREATED:20180114T232334Z
LAST-MODIFIED:20180205T135111Z
UID:282-1517943600-1517947200@2018.hillsideschoolpta.com
SUMMARY:PTA Meeting
DESCRIPTION:Join us for the February PTA Meeting!  Child care will be provided for school-aged children during the meeting. \n  \nSee Hillside Elementary School PTA Meeting Agenda – February
URL:https://2018.hillsideschoolpta.com/event/pta-meeting-2/
LOCATION:Media Center
CATEGORIES:PTA Meeting
ATTACH;FMTTYPE=image/png:https://2018.hillsideschoolpta.com/wp-content/uploads/2018/01/pta.png
ORGANIZER;CN="Denise Dunton":MAILTO:denise.dunton@gmail.com
END:VEVENT
END:VCALENDAR